BEGIN:VCALENDAR
VERSION:2.0
PRODID:-// - ECPv6.15.20//NONSGML v1.0//EN
CALSCALE:GREGORIAN
METHOD:PUBLISH
X-ORIGINAL-URL:https://infoallaitement54.fr
X-WR-CALDESC:Évènements pour 
REFRESH-INTERVAL;VALUE=DURATION:PT1H
X-Robots-Tag:noindex
X-PUBLISHED-TTL:PT1H
BEGIN:VTIMEZONE
TZID:Europe/Paris
BEGIN:DAYLIGHT
TZOFFSETFROM:+0100
TZOFFSETTO:+0200
TZNAME:CEST
DTSTART:20240331T010000
END:DAYLIGHT
BEGIN:STANDARD
TZOFFSETFROM:+0200
TZOFFSETTO:+0100
TZNAME:CET
DTSTART:20241027T010000
END:STANDARD
BEGIN:DAYLIGHT
TZOFFSETFROM:+0100
TZOFFSETTO:+0200
TZNAME:CEST
DTSTART:20250330T010000
END:DAYLIGHT
BEGIN:STANDARD
TZOFFSETFROM:+0200
TZOFFSETTO:+0100
TZNAME:CET
DTSTART:20251026T010000
END:STANDARD
BEGIN:DAYLIGHT
TZOFFSETFROM:+0100
TZOFFSETTO:+0200
TZNAME:CEST
DTSTART:20260329T010000
END:DAYLIGHT
BEGIN:STANDARD
TZOFFSETFROM:+0200
TZOFFSETTO:+0100
TZNAME:CET
DTSTART:20261025T010000
END:STANDARD
END:VTIMEZONE
BEGIN:VEVENT
DTSTART;TZID=Europe/Paris:20251105T153000
DTEND;TZID=Europe/Paris:20251105T173000
DTSTAMP:20260421T121610
CREATED:20250912T084142Z
LAST-MODIFIED:20250912T093110Z
UID:1856-1762356600-1762363800@infoallaitement54.fr
SUMMARY:"Café Parents"  au LAEP la Baleine Bleue à Nancy
DESCRIPTION:Rencontre familiale lors d’un café parents organisé par le LAEP la « baleine bleue » à Nancy.
URL:https://infoallaitement54.fr/event/cafe-parents-haut-du-lievre/
LOCATION:Nancy\, 7 rue Jean Mihé \, Batiment du cèdre bleu\, NANCY\, Sélectionner un État :\, 54000\, France
END:VEVENT
END:VCALENDAR