BEGIN:VCALENDAR
VERSION:2.0
PRODID:-// - ECPv6.15.20//NONSGML v1.0//EN
CALSCALE:GREGORIAN
METHOD:PUBLISH
X-ORIGINAL-URL:https://infoallaitement54.fr
X-WR-CALDESC:Évènements pour 
REFRESH-INTERVAL;VALUE=DURATION:PT1H
X-Robots-Tag:noindex
X-PUBLISHED-TTL:PT1H
BEGIN:VTIMEZONE
TZID:Europe/Paris
BEGIN:DAYLIGHT
TZOFFSETFROM:+0100
TZOFFSETTO:+0200
TZNAME:CEST
DTSTART:20240331T010000
END:DAYLIGHT
BEGIN:STANDARD
TZOFFSETFROM:+0200
TZOFFSETTO:+0100
TZNAME:CET
DTSTART:20241027T010000
END:STANDARD
BEGIN:DAYLIGHT
TZOFFSETFROM:+0100
TZOFFSETTO:+0200
TZNAME:CEST
DTSTART:20250330T010000
END:DAYLIGHT
BEGIN:STANDARD
TZOFFSETFROM:+0200
TZOFFSETTO:+0100
TZNAME:CET
DTSTART:20251026T010000
END:STANDARD
BEGIN:DAYLIGHT
TZOFFSETFROM:+0100
TZOFFSETTO:+0200
TZNAME:CEST
DTSTART:20260329T010000
END:DAYLIGHT
BEGIN:STANDARD
TZOFFSETFROM:+0200
TZOFFSETTO:+0100
TZNAME:CET
DTSTART:20261025T010000
END:STANDARD
END:VTIMEZONE
BEGIN:VEVENT
DTSTART;VALUE=DATE:20251012
DTEND;VALUE=DATE:20251013
DTSTAMP:20260421T145553
CREATED:20250912T081004Z
LAST-MODIFIED:20250912T081004Z
UID:1828-1760227200-1760313599@infoallaitement54.fr
SUMMARY:40 ans d'Info Allaitement 54 !
DESCRIPTION:Cette année\, Info Allaitement 54 fête ses 40 ans ! 🎉\nEh oui\, 40 ans à accompagner bénévolement les familles dans leurs projets d’allaitement ❤️avec une permanence téléphonique quotidienne de 9h00 à 22h00. \nPour l’occasion\, on organise un grand événement familial le dimanche 12 octobre au Château du Charmois à Vandoeuvre-lès-Nancy\, dans le cadre de la Semaine Mondiale de l’Allaitement Maternel 🌍🍼 \nComme thème cette année : « Prioriser l’allaitement\, créer des systèmes de soutien durables » ! \nPour célébrer nos 40 ans nous avons (entre autres !) organisé une tombola solidaire pour marquer l’événement. \n\nLe principe : vous gâter tout en soutenant nos actions. Les fonds récoltés nous permettront de continuer à nous former\, d’écouter et d’accompagner les familles\, et d’assurer une permanence téléphonique de qualité.\n\n\n Plus de 500 € de lots à gagner : bons cadeaux\, livres\, soins\, goûters\, vêtements… de quoi faire plaisir à tout le monde !\n\n\n Tirage au sort lors de la Fête de l’Allaitement Maternel\, le 12 octobre au Domaine du Charmois à Vandoeuvre.\n\n\n Pour prendre votre ticket\, c’est ici :\nhttps://www.helloasso.com/…/tombola-40-ans-info…
URL:https://infoallaitement54.fr/event/40-ans-dinfo-allaitement-54/
LOCATION:domaine et chateau du charmois\, Domaine et Chateau du charmois\, VANDOEUVRE\, 54500\, France
END:VEVENT
END:VCALENDAR